BEGIN:VCALENDAR
VERSION:2.0
PRODID:-//www.alderhealth.org//NONSGML kigkonsult.se iCalcreator 2.30.10//
CALSCALE:GREGORIAN
METHOD:PUBLISH
UID:e7ed4ed9-d18b-488c-b1bb-3d8f2843a570
X-WR-CALDESC:Free confidential and anonymous walk in HIV and STD testing an
 d treatment.\n\nScreenings include: \n\nSyphilis\nChlamydia\nGonorrhea\nHI
 V
X-WR-RELCALID:11eadbc6a56045c33b5785dd2340e716
X-WR-TIMEZONE:America/New_York
BEGIN:VTIMEZONE
TZID:America/New_York
BEGIN:STANDARD
TZNAME:EST
DTSTART:20181104T020000
TZOFFSETFROM:-0400
TZOFFSETTO:-0500
RDATE:20191103T020000
END:STANDARD
BEGIN:DAYLIGHT
TZNAME:EDT
DTSTART:20190310T020000
TZOFFSETFROM:-0500
TZOFFSETTO:-0400
RDATE:20200308T020000
END:DAYLIGHT
END:VTIMEZONE
BEGIN:VEVENT
UID:52404cf8-a20c-4fe1-bb4a-53f69097c7b1
DTSTAMP:20260423T183031Z
DESCRIPTION:Free confidential and anonymous walk in HIV and STD testing and
  treatment.\n\nScreenings include: \n\nSyphilis\nChlamydia\nGonorrhea\nHIV
DTSTART;TZID=America/New_York:20190501T160000
DTEND;TZID=America/New_York:20190501T200000
LOCATION:100 N. Cameron St. Harrisburg\, PA 17101
SUMMARY:Free HIV/ STD Testing & Treatment
END:VEVENT
END:VCALENDAR
