BEGIN:VCALENDAR
VERSION:2.0
PRODID:-//www.alderhealth.org//NONSGML kigkonsult.se iCalcreator 2.30.10//
CALSCALE:GREGORIAN
METHOD:PUBLISH
UID:e6a6b3b5-399a-49b9-b4f7-bb06e7785cc8
X-WR-CALDESC:Free confidential and anonymous walk in HIV and STD testing an
 d treatment.\n\nScreenings include: \n\nSyphilis\nChlamydia\nGonorrhea\nHI
 V
X-WR-RELCALID:2867a69eacc3a630aef40d8dd7adb0a9
X-WR-TIMEZONE:America/New_York
BEGIN:VTIMEZONE
TZID:America/New_York
BEGIN:STANDARD
TZNAME:EST
DTSTART:20181104T020000
TZOFFSETFROM:-0400
TZOFFSETTO:-0500
RDATE:20191103T020000
RDATE:20201101T020000
END:STANDARD
BEGIN:DAYLIGHT
TZNAME:EDT
DTSTART:20190310T020000
TZOFFSETFROM:-0500
TZOFFSETTO:-0400
RDATE:20200308T020000
END:DAYLIGHT
END:VTIMEZONE
BEGIN:VEVENT
UID:afa7561b-5818-4a65-80c1-1da0549d17af
DTSTAMP:20260423T182620Z
DESCRIPTION:Free confidential and anonymous walk in HIV and STD testing and
  treatment.\n\nScreenings include: \n\nSyphilis\nChlamydia\nGonorrhea\nHIV
DTSTART;TZID=America/New_York:20190508T160000
DTEND;TZID=America/New_York:20190508T200000
LOCATION:100 N. Cameron St. Harrisburg\, PA 17101
SUMMARY:Free HIV/ STD Testing & Treatment
END:VEVENT
END:VCALENDAR
