BEGIN:VCALENDAR
VERSION:2.0
PRODID:-//www.alderhealth.org//NONSGML kigkonsult.se iCalcreator 2.30.10//
CALSCALE:GREGORIAN
METHOD:PUBLISH
UID:84f48e4a-3d6a-411a-854a-fcd0f2a9c51e
X-WR-CALDESC:Mpower PA is a group of young\, 18-30yo queer\, bi\, gay\, or 
 questioning men who come together to do outreach and education as well as 
 host public events\, all in an attempt to create a supportive place for ou
 r community and improve our common health and wellness! Giving information
  on HIV and sexual health are two of our main components\, and we tackle m
 ore as well.\n\nThis meeting is just for us\, but check out the events pag
 e for all the public gatherings we will be hosting that are open to all!
X-WR-RELCALID:c84dbc9c0bf919b358472129fb253f42
X-WR-TIMEZONE:America/New_York
BEGIN:VTIMEZONE
TZID:America/New_York
BEGIN:STANDARD
TZNAME:EST
DTSTART:20181104T020000
TZOFFSETFROM:-0400
TZOFFSETTO:-0500
RDATE:20191103T020000
RDATE:20201101T020000
END:STANDARD
BEGIN:DAYLIGHT
TZNAME:EDT
DTSTART:20190310T020000
TZOFFSETFROM:-0500
TZOFFSETTO:-0400
RDATE:20200308T020000
END:DAYLIGHT
END:VTIMEZONE
BEGIN:VEVENT
UID:e6702c58-ef0b-4486-9924-579a97bf555d
DTSTAMP:20260423T203422Z
DESCRIPTION:Mpower PA is a group of young\, 18-30yo queer\, bi\, gay\, or q
 uestioning men who come together to do outreach and education as well as h
 ost public events\, all in an attempt to create a supportive place for our
  community and improve our common health and wellness! Giving information 
 on HIV and sexual health are two of our main components\, and we tackle mo
 re as well.\n\nThis meeting is just for us\, but check out the events page
  for all the public gatherings we will be hosting that are open to all!
DTSTART;TZID=America/New_York:20190513T190000
DTEND;TZID=America/New_York:20190513T210000
LOCATION:100 N. Cameron Street Harrisburg\, PA 17101
SUMMARY:Mpower PA Core Group
END:VEVENT
END:VCALENDAR
