BEGIN:VCALENDAR
VERSION:2.0
PRODID:-//www.alderhealth.org//NONSGML kigkonsult.se iCalcreator 2.30.10//
CALSCALE:GREGORIAN
METHOD:PUBLISH
UID:82747e53-b0ef-4b5a-885a-63a9114e9391
X-WR-CALDESC:Open Spaces is a closed support group for individuals living w
 ith HIV and should contact Alder Health Services @ 717. 233.7190 or Hershe
 y Medical Center @ 717.531.5850 for general questions
X-WR-RELCALID:3df178ebe3062bb2337ccea3b4b5f208
X-WR-TIMEZONE:America/New_York
BEGIN:VTIMEZONE
TZID:America/New_York
BEGIN:STANDARD
TZNAME:EST
DTSTART:20181104T020000
TZOFFSETFROM:-0400
TZOFFSETTO:-0500
RDATE:20191103T020000
RDATE:20201101T020000
END:STANDARD
BEGIN:DAYLIGHT
TZNAME:EDT
DTSTART:20190310T020000
TZOFFSETFROM:-0500
TZOFFSETTO:-0400
RDATE:20200308T020000
END:DAYLIGHT
END:VTIMEZONE
BEGIN:VEVENT
UID:a1d843f8-6118-445a-af38-e2c68d7a728e
DTSTAMP:20260423T182935Z
DESCRIPTION:Open Spaces is a closed support group for individuals living wi
 th HIV and should contact Alder Health Services @ 717. 233.7190 or Hershey
  Medical Center @ 717.531.5850 for general questions
DTSTART;TZID=America/New_York:20190514T163000
DTEND;TZID=America/New_York:20190514T173000
LOCATION:100 N. Cameron St. Harrisburg\, PA 2nd Floor
SUMMARY:Open Spaces
END:VEVENT
END:VCALENDAR
