BEGIN:VCALENDAR
VERSION:2.0
PRODID:-//www.alderhealth.org//NONSGML kigkonsult.se iCalcreator 2.30.10//
CALSCALE:GREGORIAN
METHOD:PUBLISH
UID:33bd5abe-4a85-4b51-bac0-b594a347b029
X-WR-CALDESC:Alder Health Services is proud to be one selected nonprofit or
 ganizations participating in the 2019 Highmark Walk for A Healthy Communit
 y. Alder Health Services provides quality health care that addresses the u
 nique needs of the LGBTQ community. Alder is the only LGBTQ focused health
  center within 120-mile radius. Your donation will ensure Alder’s unique s
 ervice model will continue to provide a healthy future for the LGBTQ commu
 nity in South Central Pennsylvania.\n\n \n\nDonate or Register to Walk at 
 our <a href='http://hcf.convio.net/site/TR/Harrisburg/HighmarkWalk?pg=entr
 y&fr_id=2613'>Highmark Page</a>
X-WR-RELCALID:1f78f1e03e86a46e159ea8dfe9976dfe
X-WR-TIMEZONE:America/Chicago
BEGIN:VTIMEZONE
TZID:America/Chicago
BEGIN:STANDARD
TZNAME:CST
DTSTART:20181104T020000
TZOFFSETFROM:-0500
TZOFFSETTO:-0600
RDATE:20191103T020000
RDATE:20201101T020000
END:STANDARD
BEGIN:DAYLIGHT
TZNAME:CDT
DTSTART:20190310T020000
TZOFFSETFROM:-0600
TZOFFSETTO:-0500
RDATE:20200308T020000
END:DAYLIGHT
END:VTIMEZONE
BEGIN:VEVENT
UID:89473a6d-d1fd-43b7-a37d-d4d02a7e4714
DTSTAMP:20260423T182321Z
DESCRIPTION:Alder Health Services is proud to be one selected nonprofit org
 anizations participating in the 2019 Highmark Walk for A Healthy Community
 . Alder Health Services provides quality health care that addresses the un
 ique needs of the LGBTQ community. Alder is the only LGBTQ focused health 
 center within 120-mile radius. Your donation will ensure Alder’s unique se
 rvice model will continue to provide a healthy future for the LGBTQ commun
 ity in South Central Pennsylvania.\n\n \n\nDonate or Register to Walk at o
 ur <a href='http://hcf.convio.net/site/TR/Harrisburg/HighmarkWalk?pg=entry
 &fr_id=2613'>Highmark Page</a>
DTSTART;TZID=America/Chicago:20190518T090000
DTEND;TZID=America/Chicago:20190518T120000
LOCATION:One HACC Dr. Harrisburg\, PA 17011
SUMMARY:Highmark Walk For A Health Community
END:VEVENT
END:VCALENDAR
