BEGIN:VCALENDAR
VERSION:2.0
PRODID:-//www.alderhealth.org//NONSGML kigkonsult.se iCalcreator 2.30.10//
CALSCALE:GREGORIAN
METHOD:PUBLISH
UID:99867787-5f56-4194-9c60-6f8883de2cdb
X-WR-CALDESC:Free confidential and anonymous walk in HIV and STD testing an
 d treatment.\n\nScreenings include: \n\nSyphilis\nChlamydia\nGonorrhea\nHI
 V
X-WR-RELCALID:b58dbe9e3293a97b2bf651392fc5b242
X-WR-TIMEZONE:America/New_York
BEGIN:VTIMEZONE
TZID:America/New_York
BEGIN:STANDARD
TZNAME:EST
DTSTART:20181104T020000
TZOFFSETFROM:-0400
TZOFFSETTO:-0500
RDATE:20191103T020000
RDATE:20201101T020000
END:STANDARD
BEGIN:DAYLIGHT
TZNAME:EDT
DTSTART:20190310T020000
TZOFFSETFROM:-0500
TZOFFSETTO:-0400
RDATE:20200308T020000
END:DAYLIGHT
END:VTIMEZONE
BEGIN:VEVENT
UID:3ccb9a23-1465-4ce3-b7d5-a746a8e01dcf
DTSTAMP:20260423T181630Z
DESCRIPTION:Free confidential and anonymous walk in HIV and STD testing and
  treatment.\n\nScreenings include: \n\nSyphilis\nChlamydia\nGonorrhea\nHIV
DTSTART;TZID=America/New_York:20190529T160000
DTEND;TZID=America/New_York:20190529T200000
LOCATION:100 N. Cameron St. Harrisburg\, PA 17101
SUMMARY:Free HIV/ STD Testing & Treatment
END:VEVENT
END:VCALENDAR
