BEGIN:VCALENDAR
VERSION:2.0
PRODID:-//www.alderhealth.org//NONSGML kigkonsult.se iCalcreator 2.30.10//
CALSCALE:GREGORIAN
METHOD:PUBLISH
UID:8989fbc9-da9f-48d3-9cf8-d357d442b4b6
X-WR-CALDESC:Free confidential and anonymous walk in HIV and STD testing an
 d treatment.\n\nScreenings include: \n\nSyphilis\nChlamydia\nGonorrhea\nHI
 V
X-WR-RELCALID:002a472c3fd0750fcf4c657e1d2b5ba5
X-WR-TIMEZONE:America/New_York
BEGIN:VTIMEZONE
TZID:America/New_York
BEGIN:STANDARD
TZNAME:EST
DTSTART:20181104T020000
TZOFFSETFROM:-0400
TZOFFSETTO:-0500
RDATE:20191103T020000
RDATE:20201101T020000
END:STANDARD
BEGIN:DAYLIGHT
TZNAME:EDT
DTSTART:20190310T020000
TZOFFSETFROM:-0500
TZOFFSETTO:-0400
RDATE:20200308T020000
END:DAYLIGHT
END:VTIMEZONE
BEGIN:VEVENT
UID:5d547402-9f14-4f60-a82f-5ae2c0efbf30
DTSTAMP:20260423T164422Z
DESCRIPTION:Free confidential and anonymous walk in HIV and STD testing and
  treatment.\n\nScreenings include: \n\nSyphilis\nChlamydia\nGonorrhea\nHIV
DTSTART;TZID=America/New_York:20190612T160000
DTEND;TZID=America/New_York:20190612T200000
LOCATION:100 N. Cameron St. Harrisburg\, PA 17101
SUMMARY:Free HIV/ STD Testing & Treatment
END:VEVENT
END:VCALENDAR
