BEGIN:VCALENDAR
VERSION:2.0
PRODID:-//www.alderhealth.org//NONSGML kigkonsult.se iCalcreator 2.30.10//
CALSCALE:GREGORIAN
METHOD:PUBLISH
UID:57f21b9a-2cc9-4cda-ba07-baa01fef8a5d
X-WR-CALDESC:Join us for a light lunch (provided) and a discussion on finan
 cial health with Members 1st Credit Union. They will discuss setting finan
 cial goals\, creating a successful budgeting and resources that fit your l
 ifestyle.\n
X-WR-RELCALID:a34345c8c9e47f756c296af846d40083
X-WR-TIMEZONE:America/New_York
BEGIN:VTIMEZONE
TZID:America/New_York
BEGIN:STANDARD
TZNAME:EST
DTSTART:20181104T020000
TZOFFSETFROM:-0400
TZOFFSETTO:-0500
RDATE:20191103T020000
RDATE:20201101T020000
END:STANDARD
BEGIN:DAYLIGHT
TZNAME:EDT
DTSTART:20190310T020000
TZOFFSETFROM:-0500
TZOFFSETTO:-0400
RDATE:20200308T020000
END:DAYLIGHT
END:VTIMEZONE
BEGIN:VEVENT
UID:741cd4f0-3c86-4e43-8a3c-06ffb3a3b22a
DTSTAMP:20260423T165111Z
DESCRIPTION:Join us for a light lunch (provided) and a discussion on financ
 ial health with Members 1st Credit Union. They will discuss setting financ
 ial goals\, creating a successful budgeting and resources that fit your li
 festyle.\n
DTSTART;TZID=America/New_York:20190621T120000
DTEND;TZID=America/New_York:20190621T130000
LOCATION:100 N. Cameron St. Harrisburg\, PA 2nd Floor
SUMMARY:Lunch & Learn
END:VEVENT
END:VCALENDAR
