BEGIN:VCALENDAR
VERSION:2.0
PRODID:-//www.alderhealth.org//NONSGML kigkonsult.se iCalcreator 2.30.10//
CALSCALE:GREGORIAN
METHOD:PUBLISH
UID:c3ff3a2e-a15b-4a33-af00-dad67671c20e
X-WR-CALDESC:Mpower PA is a group of young\, 18-30yo queer\, bi\, gay\, or 
 questioning men who come together to do outreach and education as well as 
 host public events\, all in an attempt to create a supportive place for ou
 r community and improve our common health and wellness! Giving information
  on HIV and sexual health are two of our main components\, and we tackle m
 ore as well.\n\nThis meeting is just for us\, but check out the events pag
 e for all the public gatherings we will be hosting that are open to all!
X-WR-RELCALID:6e2a013c3840a1ae9041c32449f970c1
X-WR-TIMEZONE:America/Chicago
BEGIN:VTIMEZONE
TZID:America/Chicago
BEGIN:STANDARD
TZNAME:CST
DTSTART:20181104T020000
TZOFFSETFROM:-0500
TZOFFSETTO:-0600
RDATE:20191103T020000
RDATE:20201101T020000
END:STANDARD
BEGIN:DAYLIGHT
TZNAME:CDT
DTSTART:20190310T020000
TZOFFSETFROM:-0600
TZOFFSETTO:-0500
RDATE:20200308T020000
END:DAYLIGHT
END:VTIMEZONE
BEGIN:VEVENT
UID:fa4f240a-2ee8-46c2-8bab-bb2034a18320
DTSTAMP:20260423T164247Z
DESCRIPTION:Mpower PA is a group of young\, 18-30yo queer\, bi\, gay\, or q
 uestioning men who come together to do outreach and education as well as h
 ost public events\, all in an attempt to create a supportive place for our
  community and improve our common health and wellness! Giving information 
 on HIV and sexual health are two of our main components\, and we tackle mo
 re as well.\n\nThis meeting is just for us\, but check out the events page
  for all the public gatherings we will be hosting that are open to all!
DTSTART;TZID=America/Chicago:20190624T190000
DTEND;TZID=America/Chicago:20190624T210000
LOCATION:100 N. Cameron Street Harrisburg\, PA 17101
SUMMARY:Mpower PA Core Group
END:VEVENT
END:VCALENDAR
