BEGIN:VCALENDAR
VERSION:2.0
PRODID:-//www.alderhealth.org//NONSGML kigkonsult.se iCalcreator 2.30.10//
CALSCALE:GREGORIAN
METHOD:PUBLISH
UID:34b7bd60-d8dd-4bf6-8be1-7852f8cc8643
X-WR-CALDESC:Open Spaces is a closed support group for individuals living w
 ith HIV and should contact Alder Health Services @ 717. 233.7190 or Hershe
 y Medical Center @ 717.531.5850 for general questions
X-WR-RELCALID:aa55043016c21cce592e4df87c2766ca
X-WR-TIMEZONE:America/New_York
BEGIN:VTIMEZONE
TZID:America/New_York
BEGIN:STANDARD
TZNAME:EST
DTSTART:20181104T020000
TZOFFSETFROM:-0400
TZOFFSETTO:-0500
RDATE:20191103T020000
RDATE:20201101T020000
END:STANDARD
BEGIN:DAYLIGHT
TZNAME:EDT
DTSTART:20190310T020000
TZOFFSETFROM:-0500
TZOFFSETTO:-0400
RDATE:20200308T020000
END:DAYLIGHT
END:VTIMEZONE
BEGIN:VEVENT
UID:a96e48d8-b01f-49aa-8f50-aa821dab8ad2
DTSTAMP:20260423T164807Z
DESCRIPTION:Open Spaces is a closed support group for individuals living wi
 th HIV and should contact Alder Health Services @ 717. 233.7190 or Hershey
  Medical Center @ 717.531.5850 for general questions
DTSTART;TZID=America/New_York:20190625T163000
DTEND;TZID=America/New_York:20190625T173000
LOCATION:100 N. Cameron St. Harrisburg\, PA 2nd Floor
SUMMARY:Open Spaces
END:VEVENT
END:VCALENDAR
