BEGIN:VCALENDAR
VERSION:2.0
PRODID:-//www.alderhealth.org//NONSGML kigkonsult.se iCalcreator 2.30.10//
CALSCALE:GREGORIAN
METHOD:PUBLISH
UID:b4942d38-b818-4684-92ce-b49c24a33fe8
X-WR-CALDESC:Free confidential and anonymous walk in HIV and STD testing an
 d treatment.\n\nScreenings include: \n\nSyphilis\nChlamydia\nGonorrhea\nHI
 V
X-WR-RELCALID:cb4894586374705ba8c971c920c9c0d9
X-WR-TIMEZONE:America/New_York
BEGIN:VTIMEZONE
TZID:America/New_York
BEGIN:STANDARD
TZNAME:EST
DTSTART:20181104T020000
TZOFFSETFROM:-0400
TZOFFSETTO:-0500
RDATE:20191103T020000
RDATE:20201101T020000
END:STANDARD
BEGIN:DAYLIGHT
TZNAME:EDT
DTSTART:20190310T020000
TZOFFSETFROM:-0500
TZOFFSETTO:-0400
RDATE:20200308T020000
END:DAYLIGHT
END:VTIMEZONE
BEGIN:VEVENT
UID:70240e8d-000b-4ff4-931e-75e64c06df36
DTSTAMP:20260423T164854Z
DESCRIPTION:Free confidential and anonymous walk in HIV and STD testing and
  treatment.\n\nScreenings include: \n\nSyphilis\nChlamydia\nGonorrhea\nHIV
DTSTART;TZID=America/New_York:20190626T160000
DTEND;TZID=America/New_York:20190626T200000
LOCATION:100 N. Cameron St. Harrisburg\, PA 17101
SUMMARY:Free HIV/ STD Testing & Treatment
END:VEVENT
END:VCALENDAR
