BEGIN:VCALENDAR
VERSION:2.0
PRODID:-//www.alderhealth.org//NONSGML kigkonsult.se iCalcreator 2.30.10//
CALSCALE:GREGORIAN
METHOD:PUBLISH
UID:33f1e6db-e708-4d07-a0b0-0264b5544263
X-WR-CALDESC:
X-WR-RELCALID:1ebd3b61cc8a93fe25434228fea9321e
X-WR-TIMEZONE:America/New_York
BEGIN:VTIMEZONE
TZID:America/New_York
BEGIN:STANDARD
TZNAME:EST
DTSTART:20181104T020000
TZOFFSETFROM:-0400
TZOFFSETTO:-0500
RDATE:20191103T020000
RDATE:20201101T020000
END:STANDARD
BEGIN:DAYLIGHT
TZNAME:EDT
DTSTART:20190310T020000
TZOFFSETFROM:-0500
TZOFFSETTO:-0400
RDATE:20200308T020000
END:DAYLIGHT
END:VTIMEZONE
BEGIN:VEVENT
UID:407687b1-1657-44ab-9187-c0931d47685d
DTSTAMP:20260423T164438Z
DESCRIPTION:
DTSTART;TZID=America/New_York:20190708T000000
DTEND;TZID=America/New_York:20190708T235900
LOCATION:
SUMMARY:Closed - Labor Day
END:VEVENT
END:VCALENDAR
