BEGIN:VCALENDAR
VERSION:2.0
PRODID:-//www.alderhealth.org//NONSGML kigkonsult.se iCalcreator 2.30.10//
CALSCALE:GREGORIAN
METHOD:PUBLISH
UID:8c42a6fc-dc16-4174-8c39-b8012a320d59
X-WR-CALDESC:Community Hike\nSunday October 27th at 10:00 am\n\nAppalachian
  Trail\, Boling Springs. \nEarthen terrain. \nFree. Dogs allowed. \nMeet a
 t Appalachian Trail Parking 1\nAppalachian Trail\, Carlisle\, PA 17015\n\n
 Questions? \nContact Noah at 570-269-2464 \n(text preferred)\n
X-WR-RELCALID:56454860da9de8e19aab10102c0bf145
X-WR-TIMEZONE:America/New_York
BEGIN:VTIMEZONE
TZID:America/New_York
BEGIN:STANDARD
TZNAME:EST
DTSTART:20181104T020000
TZOFFSETFROM:-0400
TZOFFSETTO:-0500
RDATE:20191103T020000
RDATE:20201101T020000
END:STANDARD
BEGIN:DAYLIGHT
TZNAME:EDT
DTSTART:20190310T020000
TZOFFSETFROM:-0500
TZOFFSETTO:-0400
RDATE:20200308T020000
RDATE:20210314T020000
END:DAYLIGHT
END:VTIMEZONE
BEGIN:VEVENT
UID:b74cd574-a164-4958-bf79-074fefef3027
DTSTAMP:20260423T100311Z
DESCRIPTION:Community Hike\nSunday October 27th at 10:00 am\n\nAppalachian 
 Trail\, Boling Springs. \nEarthen terrain. \nFree. Dogs allowed. \nMeet at
  Appalachian Trail Parking 1\nAppalachian Trail\, Carlisle\, PA 17015\n\nQ
 uestions? \nContact Noah at 570-269-2464 \n(text preferred)\n
DTSTART;TZID=America/New_York:20191027T100000
DTEND;TZID=America/New_York:20191027T120000
LOCATION:Appalachian Trail\, Boling Springs
SUMMARY:Community Hike
END:VEVENT
END:VCALENDAR
