BEGIN:VCALENDAR
VERSION:2.0
PRODID:-//www.alderhealth.org//NONSGML kigkonsult.se iCalcreator 2.30.10//
CALSCALE:GREGORIAN
METHOD:PUBLISH
UID:ed7593db-1616-481a-859a-8867e886c886
X-WR-CALDESC:Join the discussion every second and fourth Monday at our Lanc
 aster Office. A safe space to discuss living with HIV\, share support\, a 
 story of overcoming barriers\, battling stigma\, facing realities and embr
 acing changes. This group is member-run and all voices are welcome at the 
 table.\nConference Room Suite B\, First Floor\n\nLight refreshments will b
 e available.\nFor more information\nor to RSVP please call 717-233-7190\na
 nd use extension 111\, 113\, or 114.\n
X-WR-RELCALID:de5ba08df25d362bb7b9814553ca5f45
X-WR-TIMEZONE:America/New_York
BEGIN:VTIMEZONE
TZID:America/New_York
BEGIN:STANDARD
TZNAME:EST
DTSTART:20181104T020000
TZOFFSETFROM:-0400
TZOFFSETTO:-0500
RDATE:20191103T020000
RDATE:20201101T020000
END:STANDARD
BEGIN:DAYLIGHT
TZNAME:EDT
DTSTART:20190310T020000
TZOFFSETFROM:-0500
TZOFFSETTO:-0400
RDATE:20200308T020000
RDATE:20210314T020000
END:DAYLIGHT
END:VTIMEZONE
BEGIN:VEVENT
UID:f15b828f-1217-4dd8-960a-456f3fdf1d05
DTSTAMP:20260423T100701Z
DESCRIPTION:Join the discussion every second and fourth Monday at our Lanca
 ster Office. A safe space to discuss living with HIV\, share support\, a s
 tory of overcoming barriers\, battling stigma\, facing realities and embra
 cing changes. This group is member-run and all voices are welcome at the t
 able.\nConference Room Suite B\, First Floor\n\nLight refreshments will be
  available.\nFor more information\nor to RSVP please call 717-233-7190\nan
 d use extension 111\, 113\, or 114.\n
DTSTART;TZID=America/New_York:20191028T163000
DTEND;TZID=America/New_York:20191028T173000
LOCATION:313 W. Liberty Street Suite #371 Lancaster\, PA 17603
SUMMARY:Lancaster Support Group
END:VEVENT
END:VCALENDAR
