BEGIN:VCALENDAR
VERSION:2.0
PRODID:-//www.alderhealth.org//NONSGML kigkonsult.se iCalcreator 2.30.10//
CALSCALE:GREGORIAN
METHOD:PUBLISH
UID:c0241bc2-3194-43e3-a151-f05bd982a972
X-WR-CALDESC:
X-WR-RELCALID:510e78077dc3bc9bce34566b5eae91aa
X-WR-TIMEZONE:America/New_York
BEGIN:VTIMEZONE
TZID:America/New_York
BEGIN:STANDARD
TZNAME:EST
DTSTART:20191103T020000
TZOFFSETFROM:-0400
TZOFFSETTO:-0500
RDATE:20201101T020000
END:STANDARD
BEGIN:DAYLIGHT
TZNAME:EDT
DTSTART:20190310T020000
TZOFFSETFROM:-0500
TZOFFSETTO:-0400
RDATE:20200308T020000
RDATE:20210314T020000
END:DAYLIGHT
END:VTIMEZONE
BEGIN:VEVENT
UID:26ff566e-3b30-458d-a3d0-13dc5b6ce151
DTSTAMP:20260421T092537Z
DESCRIPTION:
DTSTART;TZID=America/New_York:20191120T000000
DTEND;TZID=America/New_York:20191120T235900
LOCATION:
SUMMARY:NO HIV/STD Testing
END:VEVENT
END:VCALENDAR
