BEGIN:VCALENDAR
VERSION:2.0
PRODID:-//www.alderhealth.org//NONSGML kigkonsult.se iCalcreator 2.30.10//
CALSCALE:GREGORIAN
METHOD:PUBLISH
UID:33dce9a8-51a3-4e67-92a5-9bd56a1cdd7c
X-WR-CALDESC:Join the discussion every second and fourth Monday at our Lanc
 aster Office. A safe space to discuss living with HIV\, share support\, a 
 story of overcoming barriers\, battling stigma\, facing realities and embr
 acing changes. This group is member-run and all voices are welcome at the 
 table.\nConference Room Suite B\, First Floor\n\nLight refreshments will b
 e available.\nFor more information\nor to RSVP please call 717-233-7190\na
 nd use extension 111\, 113\, or 114.\n
X-WR-RELCALID:666b5eee43b2fb71a2b5feaff1585126
X-WR-TIMEZONE:America/New_York
BEGIN:VTIMEZONE
TZID:America/New_York
BEGIN:STANDARD
TZNAME:EST
DTSTART:20191103T020000
TZOFFSETFROM:-0400
TZOFFSETTO:-0500
RDATE:20201101T020000
END:STANDARD
BEGIN:DAYLIGHT
TZNAME:EDT
DTSTART:20190310T020000
TZOFFSETFROM:-0500
TZOFFSETTO:-0400
RDATE:20200308T020000
RDATE:20210314T020000
END:DAYLIGHT
END:VTIMEZONE
BEGIN:VEVENT
UID:881b36a5-098d-4d38-adb9-a90cd21b4b61
DTSTAMP:20260421T105040Z
DESCRIPTION:Join the discussion every second and fourth Monday at our Lanca
 ster Office. A safe space to discuss living with HIV\, share support\, a s
 tory of overcoming barriers\, battling stigma\, facing realities and embra
 cing changes. This group is member-run and all voices are welcome at the t
 able.\nConference Room Suite B\, First Floor\n\nLight refreshments will be
  available.\nFor more information\nor to RSVP please call 717-233-7190\nan
 d use extension 111\, 113\, or 114.\n
DTSTART;TZID=America/New_York:20191125T163000
DTEND;TZID=America/New_York:20191125T173000
LOCATION:313 W. Liberty Street Suite #371 Lancaster\, PA 17603
SUMMARY:Lancaster Support Group
END:VEVENT
END:VCALENDAR
