BEGIN:VCALENDAR
VERSION:2.0
PRODID:-//www.alderhealth.org//NONSGML kigkonsult.se iCalcreator 2.30.10//
CALSCALE:GREGORIAN
METHOD:PUBLISH
UID:6cb1cb9c-aa35-40f2-a76d-57598568110b
X-WR-CALDESC:
X-WR-RELCALID:12895377cb08c790af8d7ed069743cb2
X-WR-TIMEZONE:America/New_York
BEGIN:VTIMEZONE
TZID:America/New_York
BEGIN:STANDARD
TZNAME:EST
DTSTART:20191103T020000
TZOFFSETFROM:-0400
TZOFFSETTO:-0500
RDATE:20201101T020000
END:STANDARD
BEGIN:DAYLIGHT
TZNAME:EDT
DTSTART:20190310T020000
TZOFFSETFROM:-0500
TZOFFSETTO:-0400
RDATE:20200308T020000
RDATE:20210314T020000
END:DAYLIGHT
END:VTIMEZONE
BEGIN:VEVENT
UID:fc18b27d-e271-40b2-b6fc-a2461b600341
DTSTAMP:20260421T104954Z
DESCRIPTION:
DTSTART;TZID=America/New_York:20191127T000000
DTEND;TZID=America/New_York:20191130T235900
LOCATION:
SUMMARY:Closed - Thanksgiving Holiday
END:VEVENT
END:VCALENDAR
