BEGIN:VCALENDAR
VERSION:2.0
PRODID:-//www.alderhealth.org//NONSGML kigkonsult.se iCalcreator 2.30.10//
CALSCALE:GREGORIAN
METHOD:PUBLISH
UID:c8e0cba4-f72a-410e-98be-c08bcb0c061f
X-WR-CALDESC:
X-WR-RELCALID:cc72d5d49d673fa05e8ea697e8ff09d1
X-WR-TIMEZONE:America/New_York
BEGIN:VTIMEZONE
TZID:America/New_York
BEGIN:STANDARD
TZNAME:EST
DTSTART:20191103T020000
TZOFFSETFROM:-0400
TZOFFSETTO:-0500
RDATE:20201101T020000
END:STANDARD
BEGIN:DAYLIGHT
TZNAME:EDT
DTSTART:20190310T020000
TZOFFSETFROM:-0500
TZOFFSETTO:-0400
RDATE:20200308T020000
RDATE:20210314T020000
END:DAYLIGHT
END:VTIMEZONE
BEGIN:VEVENT
UID:0f689394-ebd7-4154-9fea-736b2ca24d6e
DTSTAMP:20260421T092300Z
DESCRIPTION:
DTSTART;TZID=America/New_York:20191127T000000
DTEND;TZID=America/New_York:20191127T235900
LOCATION:
SUMMARY:No HIV/STD Testing
END:VEVENT
END:VCALENDAR
