BEGIN:VCALENDAR
VERSION:2.0
PRODID:-//www.alderhealth.org//NONSGML kigkonsult.se iCalcreator 2.30.10//
CALSCALE:GREGORIAN
METHOD:PUBLISH
UID:f7667247-7a8e-4374-9713-869222602c03
X-WR-CALDESC:
X-WR-RELCALID:f5e22653cb84d15a1530882b39db6047
X-WR-TIMEZONE:America/New_York
BEGIN:VTIMEZONE
TZID:America/New_York
BEGIN:STANDARD
TZNAME:EST
DTSTART:20191103T020000
TZOFFSETFROM:-0400
TZOFFSETTO:-0500
RDATE:20201101T020000
END:STANDARD
BEGIN:DAYLIGHT
TZNAME:EDT
DTSTART:20190310T020000
TZOFFSETFROM:-0500
TZOFFSETTO:-0400
RDATE:20200308T020000
RDATE:20210314T020000
END:DAYLIGHT
END:VTIMEZONE
BEGIN:VEVENT
UID:64351949-3137-4b9b-8766-3a3c448af41c
DTSTAMP:20260421T072418Z
DESCRIPTION:
DTSTART;TZID=America/New_York:20191218T000000
DTEND;TZID=America/New_York:20191218T235900
LOCATION:
SUMMARY:No HIV/STD Testing
END:VEVENT
END:VCALENDAR
