BEGIN:VCALENDAR
VERSION:2.0
PRODID:-//www.alderhealth.org//NONSGML kigkonsult.se iCalcreator 2.30.10//
CALSCALE:GREGORIAN
METHOD:PUBLISH
UID:b224eddc-4706-4b2e-882d-e8763f32acc1
X-WR-CALDESC:
X-WR-RELCALID:4fb6034e22748aa6d2ff06a944486622
X-WR-TIMEZONE:America/New_York
BEGIN:VTIMEZONE
TZID:America/New_York
BEGIN:STANDARD
TZNAME:EST
DTSTART:20191103T020000
TZOFFSETFROM:-0400
TZOFFSETTO:-0500
RDATE:20201101T020000
END:STANDARD
BEGIN:DAYLIGHT
TZNAME:EDT
DTSTART:20190310T020000
TZOFFSETFROM:-0500
TZOFFSETTO:-0400
RDATE:20200308T020000
RDATE:20210314T020000
END:DAYLIGHT
END:VTIMEZONE
BEGIN:VEVENT
UID:41d80901-12fa-47c1-baf8-01eaf23c885a
DTSTAMP:20260421T072546Z
DESCRIPTION:
DTSTART;TZID=America/New_York:20191225T000000
DTEND;TZID=America/New_York:20191225T235900
LOCATION:
SUMMARY:No HIV/STD Testing
END:VEVENT
END:VCALENDAR
