BEGIN:VCALENDAR
VERSION:2.0
PRODID:-//www.alderhealth.org//NONSGML kigkonsult.se iCalcreator 2.30.10//
CALSCALE:GREGORIAN
METHOD:PUBLISH
UID:afa85055-22b9-4171-90f3-c2017b15b3a4
X-WR-CALDESC:
X-WR-RELCALID:3a5c5341fb66ce2fa328c2c1142cc0a7
X-WR-TIMEZONE:America/New_York
BEGIN:VTIMEZONE
TZID:America/New_York
BEGIN:STANDARD
TZNAME:EST
DTSTART:20191103T020000
TZOFFSETFROM:-0400
TZOFFSETTO:-0500
RDATE:20201101T020000
END:STANDARD
BEGIN:DAYLIGHT
TZNAME:EDT
DTSTART:20190310T020000
TZOFFSETFROM:-0500
TZOFFSETTO:-0400
RDATE:20200308T020000
RDATE:20210314T020000
END:DAYLIGHT
END:VTIMEZONE
BEGIN:VEVENT
UID:065401cd-e2b5-4984-bcc4-4ac6a0c36a56
DTSTAMP:20260421T072932Z
DESCRIPTION:
DTSTART;TZID=America/New_York:20191224T000000
DTEND;TZID=America/New_York:20191227T235900
LOCATION:
SUMMARY:Closed- Winter Holiday
END:VEVENT
END:VCALENDAR
