BEGIN:VCALENDAR
VERSION:2.0
PRODID:-//www.alderhealth.org//NONSGML kigkonsult.se iCalcreator 2.30.10//
CALSCALE:GREGORIAN
METHOD:PUBLISH
UID:efadabbc-1641-40ce-a7df-f90891d6d1f1
X-WR-CALDESC:
X-WR-RELCALID:6e70a43b141373c99f8016bf7b97b18a
X-WR-TIMEZONE:America/New_York
BEGIN:VTIMEZONE
TZID:America/New_York
BEGIN:STANDARD
TZNAME:EST
DTSTART:20191103T020000
TZOFFSETFROM:-0400
TZOFFSETTO:-0500
RDATE:20201101T020000
END:STANDARD
BEGIN:DAYLIGHT
TZNAME:EDT
DTSTART:20190310T020000
TZOFFSETFROM:-0500
TZOFFSETTO:-0400
RDATE:20200308T020000
RDATE:20210314T020000
END:DAYLIGHT
END:VTIMEZONE
BEGIN:VEVENT
UID:ab9af14d-eafc-4622-bf81-9b7ba3e428e3
DTSTAMP:20260421T054949Z
DESCRIPTION:
DTSTART;TZID=America/New_York:20191231T000000
DTEND;TZID=America/New_York:20200101T235900
LOCATION:
SUMMARY:Closed- Happy New Year!
END:VEVENT
END:VCALENDAR
