BEGIN:VCALENDAR
VERSION:2.0
PRODID:-//www.alderhealth.org//NONSGML kigkonsult.se iCalcreator 2.30.10//
CALSCALE:GREGORIAN
METHOD:PUBLISH
UID:f1937a1b-f58a-4d4c-af9f-31d4a3ac0fe6
X-WR-CALDESC:
X-WR-RELCALID:821204d93c62570339948fe0c39c0fe7
X-WR-TIMEZONE:America/New_York
BEGIN:VTIMEZONE
TZID:America/New_York
BEGIN:STANDARD
TZNAME:EST
DTSTART:20191103T020000
TZOFFSETFROM:-0400
TZOFFSETTO:-0500
RDATE:20201101T020000
END:STANDARD
BEGIN:DAYLIGHT
TZNAME:EDT
DTSTART:20190310T020000
TZOFFSETFROM:-0500
TZOFFSETTO:-0400
RDATE:20200308T020000
RDATE:20210314T020000
END:DAYLIGHT
END:VTIMEZONE
BEGIN:VEVENT
UID:21a6042a-846a-4dc0-9d8a-405b7c0235a6
DTSTAMP:20260421T055204Z
DESCRIPTION:
DTSTART;TZID=America/New_York:20200108T120000
DTEND;TZID=America/New_York:20200108T150000
LOCATION:
SUMMARY:Open Gym
END:VEVENT
END:VCALENDAR
