BEGIN:VCALENDAR
VERSION:2.0
PRODID:-//www.alderhealth.org//NONSGML kigkonsult.se iCalcreator 2.30.10//
CALSCALE:GREGORIAN
METHOD:PUBLISH
UID:b13d37e9-1fcf-4ace-81f6-c58a10180e3d
X-WR-CALDESC:
X-WR-RELCALID:e16c6b122b26659afa3de37c3a9b8904
X-WR-TIMEZONE:America/New_York
BEGIN:VTIMEZONE
TZID:America/New_York
BEGIN:STANDARD
TZNAME:EST
DTSTART:20191103T020000
TZOFFSETFROM:-0400
TZOFFSETTO:-0500
RDATE:20201101T020000
END:STANDARD
BEGIN:DAYLIGHT
TZNAME:EDT
DTSTART:20190310T020000
TZOFFSETFROM:-0500
TZOFFSETTO:-0400
RDATE:20200308T020000
RDATE:20210314T020000
END:DAYLIGHT
END:VTIMEZONE
BEGIN:VEVENT
UID:3a6e5629-8bd3-4ca4-8ebb-ba92a20c4cb6
DTSTAMP:20260421T054844Z
DESCRIPTION:
DTSTART;TZID=America/New_York:20200110T110000
DTEND;TZID=America/New_York:20200110T150000
LOCATION:100 N. Cameron St\, Harrisburg\, Pa 17101
SUMMARY:Open Gym
END:VEVENT
END:VCALENDAR
