BEGIN:VCALENDAR
VERSION:2.0
PRODID:-//www.alderhealth.org//NONSGML kigkonsult.se iCalcreator 2.30.10//
CALSCALE:GREGORIAN
METHOD:PUBLISH
UID:b05c5a41-3774-499c-a4d9-5b722c18be3d
X-WR-CALDESC:Hatha Yoga with Janus
X-WR-RELCALID:41ba85e835f7ddeae6f67ee77ecbcb6d
X-WR-TIMEZONE:America/New_York
BEGIN:VTIMEZONE
TZID:America/New_York
BEGIN:STANDARD
TZNAME:EST
DTSTART:20191103T020000
TZOFFSETFROM:-0400
TZOFFSETTO:-0500
RDATE:20201101T020000
END:STANDARD
BEGIN:DAYLIGHT
TZNAME:EDT
DTSTART:20190310T020000
TZOFFSETFROM:-0500
TZOFFSETTO:-0400
RDATE:20200308T020000
RDATE:20210314T020000
END:DAYLIGHT
END:VTIMEZONE
BEGIN:VEVENT
UID:b8f0327f-4288-42f4-9b27-6d57a7a6b861
DTSTAMP:20260421T055817Z
DESCRIPTION:Hatha Yoga with Janus
DTSTART;TZID=America/New_York:20200113T180000
DTEND;TZID=America/New_York:20200113T190000
LOCATION:
SUMMARY:Hatha Yoga
END:VEVENT
END:VCALENDAR
