BEGIN:VCALENDAR
VERSION:2.0
PRODID:-//www.alderhealth.org//NONSGML kigkonsult.se iCalcreator 2.30.10//
CALSCALE:GREGORIAN
METHOD:PUBLISH
UID:ae5787d5-1b32-48f6-9840-fe72b319a36f
X-WR-CALDESC:
X-WR-RELCALID:daaa9132aefeeb0988935b99871075b3
X-WR-TIMEZONE:America/New_York
BEGIN:VTIMEZONE
TZID:America/New_York
BEGIN:STANDARD
TZNAME:EST
DTSTART:20191103T020000
TZOFFSETFROM:-0400
TZOFFSETTO:-0500
RDATE:20201101T020000
END:STANDARD
BEGIN:DAYLIGHT
TZNAME:EDT
DTSTART:20190310T020000
TZOFFSETFROM:-0500
TZOFFSETTO:-0400
RDATE:20200308T020000
RDATE:20210314T020000
END:DAYLIGHT
END:VTIMEZONE
BEGIN:VEVENT
UID:05fba685-3ff3-4486-b23e-72fe61d58fd0
DTSTAMP:20260421T054949Z
DESCRIPTION:
DTSTART;TZID=America/New_York:20200114T120000
DTEND;TZID=America/New_York:20200114T180000
LOCATION:100 N. Cameron St\, Harrisburg\, Pa 17101
SUMMARY:Open Gym
END:VEVENT
END:VCALENDAR
