BEGIN:VCALENDAR
VERSION:2.0
PRODID:-//www.alderhealth.org//NONSGML kigkonsult.se iCalcreator 2.30.10//
CALSCALE:GREGORIAN
METHOD:PUBLISH
UID:bb24da41-7b2e-420a-94c9-04cfa2b480dc
X-WR-CALDESC:
X-WR-RELCALID:6bb855bd78c00f971074a9b7c6a47c55
X-WR-TIMEZONE:America/New_York
BEGIN:VTIMEZONE
TZID:America/New_York
BEGIN:STANDARD
TZNAME:EST
DTSTART:20191103T020000
TZOFFSETFROM:-0400
TZOFFSETTO:-0500
RDATE:20201101T020000
END:STANDARD
BEGIN:DAYLIGHT
TZNAME:EDT
DTSTART:20190310T020000
TZOFFSETFROM:-0500
TZOFFSETTO:-0400
RDATE:20200308T020000
RDATE:20210314T020000
END:DAYLIGHT
END:VTIMEZONE
BEGIN:VEVENT
UID:84c6b98d-ac0d-4b90-9648-03dc3dee8dc8
DTSTAMP:20260421T055446Z
DESCRIPTION:
DTSTART;TZID=America/New_York:20200114T180000
DTEND;TZID=America/New_York:20200114T190000
LOCATION:
SUMMARY:Queer Yoga
END:VEVENT
END:VCALENDAR
