BEGIN:VCALENDAR
VERSION:2.0
PRODID:-//www.alderhealth.org//NONSGML kigkonsult.se iCalcreator 2.30.10//
CALSCALE:GREGORIAN
METHOD:PUBLISH
UID:c4746e67-dfe3-4d8a-94f2-1c9596747982
X-WR-CALDESC:
X-WR-RELCALID:ecf41fb0b46343e946f5448aa7b8f55f
X-WR-TIMEZONE:America/New_York
BEGIN:VTIMEZONE
TZID:America/New_York
BEGIN:STANDARD
TZNAME:EST
DTSTART:20191103T020000
TZOFFSETFROM:-0400
TZOFFSETTO:-0500
RDATE:20201101T020000
END:STANDARD
BEGIN:DAYLIGHT
TZNAME:EDT
DTSTART:20190310T020000
TZOFFSETFROM:-0500
TZOFFSETTO:-0400
RDATE:20200308T020000
RDATE:20210314T020000
END:DAYLIGHT
END:VTIMEZONE
BEGIN:VEVENT
UID:190b4962-732c-4f97-b990-fa4756bb7f96
DTSTAMP:20260421T055159Z
DESCRIPTION:
DTSTART;TZID=America/New_York:20200115T120000
DTEND;TZID=America/New_York:20200115T150000
LOCATION:
SUMMARY:Open Gym
END:VEVENT
END:VCALENDAR
