BEGIN:VCALENDAR
VERSION:2.0
PRODID:-//www.alderhealth.org//NONSGML kigkonsult.se iCalcreator 2.30.10//
CALSCALE:GREGORIAN
METHOD:PUBLISH
UID:de59de29-9317-4e20-8222-a60863b64525
X-WR-CALDESC:
X-WR-RELCALID:c0d703ed1ff100a2f3d2e02e365b2c52
X-WR-TIMEZONE:America/New_York
BEGIN:VTIMEZONE
TZID:America/New_York
BEGIN:STANDARD
TZNAME:EST
DTSTART:20191103T020000
TZOFFSETFROM:-0400
TZOFFSETTO:-0500
RDATE:20201101T020000
END:STANDARD
BEGIN:DAYLIGHT
TZNAME:EDT
DTSTART:20190310T020000
TZOFFSETFROM:-0500
TZOFFSETTO:-0400
RDATE:20200308T020000
RDATE:20210314T020000
END:DAYLIGHT
END:VTIMEZONE
BEGIN:VEVENT
UID:2fdb46ce-3c4c-4f2a-addc-e3e96c90766e
DTSTAMP:20260421T054741Z
DESCRIPTION:
DTSTART;TZID=America/New_York:20200116T183000
DTEND;TZID=America/New_York:20200116T200000
LOCATION:
SUMMARY:Self-Defense Class
END:VEVENT
END:VCALENDAR
