BEGIN:VCALENDAR
VERSION:2.0
PRODID:-//www.alderhealth.org//NONSGML kigkonsult.se iCalcreator 2.30.10//
CALSCALE:GREGORIAN
METHOD:PUBLISH
UID:38c8bab5-7190-40ca-aad1-3f6596570ebe
X-WR-CALDESC:
X-WR-RELCALID:84c9f64a282168f38e1b6a3f9a784193
X-WR-TIMEZONE:America/New_York
BEGIN:VTIMEZONE
TZID:America/New_York
BEGIN:STANDARD
TZNAME:EST
DTSTART:20191103T020000
TZOFFSETFROM:-0400
TZOFFSETTO:-0500
RDATE:20201101T020000
END:STANDARD
BEGIN:DAYLIGHT
TZNAME:EDT
DTSTART:20190310T020000
TZOFFSETFROM:-0500
TZOFFSETTO:-0400
RDATE:20200308T020000
RDATE:20210314T020000
END:DAYLIGHT
END:VTIMEZONE
BEGIN:VEVENT
UID:e68f4d41-1752-419d-907c-d9ad2b127940
DTSTAMP:20260421T055045Z
DESCRIPTION:
DTSTART;TZID=America/New_York:20200117T110000
DTEND;TZID=America/New_York:20200117T150000
LOCATION:100 N. Cameron St\, Harrisburg\, Pa 17101
SUMMARY:Open Gym
END:VEVENT
END:VCALENDAR
