BEGIN:VCALENDAR
VERSION:2.0
PRODID:-//www.alderhealth.org//NONSGML kigkonsult.se iCalcreator 2.30.10//
CALSCALE:GREGORIAN
METHOD:PUBLISH
UID:79f24e8e-5a38-4be5-9fcb-038de62bc0c8
X-WR-CALDESC:
X-WR-RELCALID:dc36ef9ac8def9e8dd7b29e7c779ef90
X-WR-TIMEZONE:America/New_York
BEGIN:VTIMEZONE
TZID:America/New_York
BEGIN:STANDARD
TZNAME:EST
DTSTART:20191103T020000
TZOFFSETFROM:-0400
TZOFFSETTO:-0500
RDATE:20201101T020000
END:STANDARD
BEGIN:DAYLIGHT
TZNAME:EDT
DTSTART:20190310T020000
TZOFFSETFROM:-0500
TZOFFSETTO:-0400
RDATE:20200308T020000
RDATE:20210314T020000
END:DAYLIGHT
END:VTIMEZONE
BEGIN:VEVENT
UID:be298e7b-cd65-41d0-8d51-dd1b453a42ed
DTSTAMP:20260421T055246Z
DESCRIPTION:
DTSTART;TZID=America/New_York:20200120T000000
DTEND;TZID=America/New_York:20200120T235900
LOCATION:
SUMMARY:Closed- Martin Luther King Jr. Day
END:VEVENT
END:VCALENDAR
