BEGIN:VCALENDAR
VERSION:2.0
PRODID:-//www.alderhealth.org//NONSGML kigkonsult.se iCalcreator 2.30.10//
CALSCALE:GREGORIAN
METHOD:PUBLISH
UID:28321c4e-67d4-446a-8afe-88aeb7723fd4
X-WR-CALDESC:
X-WR-RELCALID:7537f0104b3a5cc8fe28888b41e209d2
X-WR-TIMEZONE:America/New_York
BEGIN:VTIMEZONE
TZID:America/New_York
BEGIN:STANDARD
TZNAME:EST
DTSTART:20191103T020000
TZOFFSETFROM:-0400
TZOFFSETTO:-0500
RDATE:20201101T020000
END:STANDARD
BEGIN:DAYLIGHT
TZNAME:EDT
DTSTART:20190310T020000
TZOFFSETFROM:-0500
TZOFFSETTO:-0400
RDATE:20200308T020000
RDATE:20210314T020000
END:DAYLIGHT
END:VTIMEZONE
BEGIN:VEVENT
UID:20caaf52-38b7-40cd-b432-8b7e11807ea0
DTSTAMP:20260420T132812Z
DESCRIPTION:
DTSTART;TZID=America/New_York:20200121T180000
DTEND;TZID=America/New_York:20200121T190000
LOCATION:
SUMMARY:Queer Yoga
END:VEVENT
END:VCALENDAR
