BEGIN:VCALENDAR
VERSION:2.0
PRODID:-//www.alderhealth.org//NONSGML kigkonsult.se iCalcreator 2.30.10//
CALSCALE:GREGORIAN
METHOD:PUBLISH
UID:a31da7e1-71ea-45b5-af9c-1a41c0dd7da7
X-WR-CALDESC:
X-WR-RELCALID:c3cd5e6239193a45d7cd48e0ab98556a
X-WR-TIMEZONE:America/New_York
BEGIN:VTIMEZONE
TZID:America/New_York
BEGIN:STANDARD
TZNAME:EST
DTSTART:20191103T020000
TZOFFSETFROM:-0400
TZOFFSETTO:-0500
RDATE:20201101T020000
END:STANDARD
BEGIN:DAYLIGHT
TZNAME:EDT
DTSTART:20190310T020000
TZOFFSETFROM:-0500
TZOFFSETTO:-0400
RDATE:20200308T020000
RDATE:20210314T020000
END:DAYLIGHT
END:VTIMEZONE
BEGIN:VEVENT
UID:5092808a-22b7-49a0-bd8e-9a2a0fd3fb82
DTSTAMP:20260421T055408Z
DESCRIPTION:
DTSTART;TZID=America/New_York:20200122T120000
DTEND;TZID=America/New_York:20200122T150000
LOCATION:
SUMMARY:Open Gym
END:VEVENT
END:VCALENDAR
