BEGIN:VCALENDAR
VERSION:2.0
PRODID:-//www.alderhealth.org//NONSGML kigkonsult.se iCalcreator 2.30.10//
CALSCALE:GREGORIAN
METHOD:PUBLISH
UID:630ace56-7a4b-4df6-9c79-31bf414ab1f0
X-WR-CALDESC:
X-WR-RELCALID:d505b0c707450610a342ef1665d3b372
X-WR-TIMEZONE:America/New_York
BEGIN:VTIMEZONE
TZID:America/New_York
BEGIN:STANDARD
TZNAME:EST
DTSTART:20191103T020000
TZOFFSETFROM:-0400
TZOFFSETTO:-0500
RDATE:20201101T020000
END:STANDARD
BEGIN:DAYLIGHT
TZNAME:EDT
DTSTART:20190310T020000
TZOFFSETFROM:-0500
TZOFFSETTO:-0400
RDATE:20200308T020000
RDATE:20210314T020000
END:DAYLIGHT
END:VTIMEZONE
BEGIN:VEVENT
UID:9b7e814c-8f35-431d-be92-4a11b90c4082
DTSTAMP:20260421T054649Z
DESCRIPTION:
DTSTART;TZID=America/New_York:20200124T000000
DTEND;TZID=America/New_York:20200124T235900
LOCATION:
SUMMARY:Closed
END:VEVENT
END:VCALENDAR
