BEGIN:VCALENDAR
VERSION:2.0
PRODID:-//www.alderhealth.org//NONSGML kigkonsult.se iCalcreator 2.30.10//
CALSCALE:GREGORIAN
METHOD:PUBLISH
UID:6934a42d-aceb-4f2c-b32c-2f8a4df97e4f
X-WR-CALDESC:Hatha Yoga with Janus
X-WR-RELCALID:5590df4351f821ee2f5d86261b75c906
X-WR-TIMEZONE:America/New_York
BEGIN:VTIMEZONE
TZID:America/New_York
BEGIN:STANDARD
TZNAME:EST
DTSTART:20191103T020000
TZOFFSETFROM:-0400
TZOFFSETTO:-0500
RDATE:20201101T020000
END:STANDARD
BEGIN:DAYLIGHT
TZNAME:EDT
DTSTART:20190310T020000
TZOFFSETFROM:-0500
TZOFFSETTO:-0400
RDATE:20200308T020000
RDATE:20210314T020000
END:DAYLIGHT
END:VTIMEZONE
BEGIN:VEVENT
UID:e603d738-681c-44fe-89d1-31630665168f
DTSTAMP:20260421T055723Z
DESCRIPTION:Hatha Yoga with Janus
DTSTART;TZID=America/New_York:20200127T180000
DTEND;TZID=America/New_York:20200127T190000
LOCATION:
SUMMARY:Hatha Yoga
END:VEVENT
END:VCALENDAR
