BEGIN:VCALENDAR
VERSION:2.0
PRODID:-//www.alderhealth.org//NONSGML kigkonsult.se iCalcreator 2.30.10//
CALSCALE:GREGORIAN
METHOD:PUBLISH
UID:46fdc596-ce2d-4ab4-bfcb-49de571c8d48
X-WR-CALDESC:
X-WR-RELCALID:bb04c2ea619f76c6beee5f26d2f7bf3a
X-WR-TIMEZONE:America/New_York
BEGIN:VTIMEZONE
TZID:America/New_York
BEGIN:STANDARD
TZNAME:EST
DTSTART:20191103T020000
TZOFFSETFROM:-0400
TZOFFSETTO:-0500
RDATE:20201101T020000
END:STANDARD
BEGIN:DAYLIGHT
TZNAME:EDT
DTSTART:20190310T020000
TZOFFSETFROM:-0500
TZOFFSETTO:-0400
RDATE:20200308T020000
RDATE:20210314T020000
END:DAYLIGHT
END:VTIMEZONE
BEGIN:VEVENT
UID:02139012-c376-44d8-8718-cc0e22c91278
DTSTAMP:20260421T055616Z
DESCRIPTION:
DTSTART;TZID=America/New_York:20200127T190000
DTEND;TZID=America/New_York:20200127T200000
LOCATION:100 N. Cameron St\, Harrisburg\, Pa 17101
SUMMARY:Vinyasa Yoga
END:VEVENT
END:VCALENDAR
