BEGIN:VCALENDAR
VERSION:2.0
PRODID:-//www.alderhealth.org//NONSGML kigkonsult.se iCalcreator 2.30.10//
CALSCALE:GREGORIAN
METHOD:PUBLISH
UID:6c1d6851-f08f-4314-b50b-feb27f76371e
X-WR-CALDESC:
X-WR-RELCALID:3561b50249d4851ac4b5a51ded1363c2
X-WR-TIMEZONE:America/New_York
BEGIN:VTIMEZONE
TZID:America/New_York
BEGIN:STANDARD
TZNAME:EST
DTSTART:20191103T020000
TZOFFSETFROM:-0400
TZOFFSETTO:-0500
RDATE:20201101T020000
END:STANDARD
BEGIN:DAYLIGHT
TZNAME:EDT
DTSTART:20190310T020000
TZOFFSETFROM:-0500
TZOFFSETTO:-0400
RDATE:20200308T020000
RDATE:20210314T020000
END:DAYLIGHT
END:VTIMEZONE
BEGIN:VEVENT
UID:986e2dad-3dc1-42f7-9ae1-616c616ab11a
DTSTAMP:20260421T054742Z
DESCRIPTION:
DTSTART;TZID=America/New_York:20200127T120000
DTEND;TZID=America/New_York:20200127T181500
LOCATION:100 North Cameron st\, Harrisburg\, Pa 17101
SUMMARY:Open Gym
END:VEVENT
END:VCALENDAR
