BEGIN:VCALENDAR
VERSION:2.0
PRODID:-//www.alderhealth.org//NONSGML kigkonsult.se iCalcreator 2.30.10//
CALSCALE:GREGORIAN
METHOD:PUBLISH
UID:706bd4a9-f444-44c9-87f2-1d21fc1cf6ea
X-WR-CALDESC:
X-WR-RELCALID:67611c1e7f178fce495eaceed0c457f9
X-WR-TIMEZONE:America/New_York
BEGIN:VTIMEZONE
TZID:America/New_York
BEGIN:STANDARD
TZNAME:EST
DTSTART:20191103T020000
TZOFFSETFROM:-0400
TZOFFSETTO:-0500
RDATE:20201101T020000
END:STANDARD
BEGIN:DAYLIGHT
TZNAME:EDT
DTSTART:20190310T020000
TZOFFSETFROM:-0500
TZOFFSETTO:-0400
RDATE:20200308T020000
RDATE:20210314T020000
END:DAYLIGHT
END:VTIMEZONE
BEGIN:VEVENT
UID:7b052cae-2849-4d34-8fff-1fd9992fb1f4
DTSTAMP:20260421T055533Z
DESCRIPTION:
DTSTART;TZID=America/New_York:20200128T180000
DTEND;TZID=America/New_York:20200128T190000
LOCATION:
SUMMARY:Queer Yoga
END:VEVENT
END:VCALENDAR
