BEGIN:VCALENDAR
VERSION:2.0
PRODID:-//www.alderhealth.org//NONSGML kigkonsult.se iCalcreator 2.30.10//
CALSCALE:GREGORIAN
METHOD:PUBLISH
UID:04caa2e4-6146-41ef-ae9e-80aaad8fffc1
X-WR-CALDESC:
X-WR-RELCALID:a73cfb9c3e26c78a56b937dd1ec32500
X-WR-TIMEZONE:America/New_York
BEGIN:VTIMEZONE
TZID:America/New_York
BEGIN:STANDARD
TZNAME:EST
DTSTART:20191103T020000
TZOFFSETFROM:-0400
TZOFFSETTO:-0500
RDATE:20201101T020000
END:STANDARD
BEGIN:DAYLIGHT
TZNAME:EDT
DTSTART:20190310T020000
TZOFFSETFROM:-0500
TZOFFSETTO:-0400
RDATE:20200308T020000
RDATE:20210314T020000
END:DAYLIGHT
END:VTIMEZONE
BEGIN:VEVENT
UID:52262110-93b0-4200-99f6-e468e596b3c3
DTSTAMP:20260421T055108Z
DESCRIPTION:
DTSTART;TZID=America/New_York:20200129T120000
DTEND;TZID=America/New_York:20200129T150000
LOCATION:
SUMMARY:Open Gym
END:VEVENT
END:VCALENDAR
