BEGIN:VCALENDAR
VERSION:2.0
PRODID:-//www.alderhealth.org//NONSGML kigkonsult.se iCalcreator 2.30.10//
CALSCALE:GREGORIAN
METHOD:PUBLISH
UID:161af3ca-9357-4b76-8f94-7cb66acddf45
X-WR-CALDESC:
X-WR-RELCALID:d55c374fea11d15bbe5d63c68fc42e71
X-WR-TIMEZONE:America/New_York
BEGIN:VTIMEZONE
TZID:America/New_York
BEGIN:STANDARD
TZNAME:EST
DTSTART:20191103T020000
TZOFFSETFROM:-0400
TZOFFSETTO:-0500
RDATE:20201101T020000
END:STANDARD
BEGIN:DAYLIGHT
TZNAME:EDT
DTSTART:20190310T020000
TZOFFSETFROM:-0500
TZOFFSETTO:-0400
RDATE:20200308T020000
RDATE:20210314T020000
END:DAYLIGHT
END:VTIMEZONE
BEGIN:VEVENT
UID:73e2c6d6-01b1-4c9e-b769-5f69e0da39d7
DTSTAMP:20260421T054941Z
DESCRIPTION:
DTSTART;TZID=America/New_York:20200131T110000
DTEND;TZID=America/New_York:20200131T150000
LOCATION:100 N. Cameron St\, Harrisburg\, Pa 17101
SUMMARY:Open Gym
END:VEVENT
END:VCALENDAR
