BEGIN:VCALENDAR
VERSION:2.0
PRODID:-//www.alderhealth.org//NONSGML kigkonsult.se iCalcreator 2.30.10//
CALSCALE:GREGORIAN
METHOD:PUBLISH
UID:5ccbb6e5-f967-4b56-b3dc-a2707a4098fc
X-WR-CALDESC:
X-WR-RELCALID:e6ee4b298289a70439544516937b182b
X-WR-TIMEZONE:America/New_York
BEGIN:VTIMEZONE
TZID:America/New_York
BEGIN:STANDARD
TZNAME:EST
DTSTART:20191103T020000
TZOFFSETFROM:-0400
TZOFFSETTO:-0500
RDATE:20201101T020000
END:STANDARD
BEGIN:DAYLIGHT
TZNAME:EDT
DTSTART:20190310T020000
TZOFFSETFROM:-0500
TZOFFSETTO:-0400
RDATE:20200308T020000
RDATE:20210314T020000
END:DAYLIGHT
END:VTIMEZONE
BEGIN:VEVENT
UID:d79dea6f-eaf2-4825-842c-7b9ad1e886cb
DTSTAMP:20260421T041327Z
DESCRIPTION:
DTSTART;TZID=America/New_York:20200203T120000
DTEND;TZID=America/New_York:20200203T180000
LOCATION:
SUMMARY:Open Gym
END:VEVENT
END:VCALENDAR
