BEGIN:VCALENDAR
VERSION:2.0
PRODID:-//www.alderhealth.org//NONSGML kigkonsult.se iCalcreator 2.30.10//
CALSCALE:GREGORIAN
METHOD:PUBLISH
UID:9cdc5ca0-9de4-4cf8-8743-0c36d998537c
X-WR-CALDESC:
X-WR-RELCALID:68e70b26acbb83b4230c7d837befff7c
X-WR-TIMEZONE:America/New_York
BEGIN:VTIMEZONE
TZID:America/New_York
BEGIN:STANDARD
TZNAME:EST
DTSTART:20191103T020000
TZOFFSETFROM:-0400
TZOFFSETTO:-0500
RDATE:20201101T020000
END:STANDARD
BEGIN:DAYLIGHT
TZNAME:EDT
DTSTART:20190310T020000
TZOFFSETFROM:-0500
TZOFFSETTO:-0400
RDATE:20200308T020000
RDATE:20210314T020000
END:DAYLIGHT
END:VTIMEZONE
BEGIN:VEVENT
UID:876223f2-ebd0-4b94-abbf-524790ecd636
DTSTAMP:20260421T041154Z
DESCRIPTION:
DTSTART;TZID=America/New_York:20200213T120000
DTEND;TZID=America/New_York:20200213T180000
LOCATION:
SUMMARY:Open Gym
END:VEVENT
END:VCALENDAR
