BEGIN:VCALENDAR
VERSION:2.0
PRODID:-//www.alderhealth.org//NONSGML kigkonsult.se iCalcreator 2.30.10//
CALSCALE:GREGORIAN
METHOD:PUBLISH
UID:d014fba8-363e-4237-bdce-8310c669b9c9
X-WR-CALDESC:
X-WR-RELCALID:2b2e4dbc2e012b9b91d4919aa1654ac7
X-WR-TIMEZONE:America/New_York
BEGIN:VTIMEZONE
TZID:America/New_York
BEGIN:STANDARD
TZNAME:EST
DTSTART:20191103T020000
TZOFFSETFROM:-0400
TZOFFSETTO:-0500
RDATE:20201101T020000
END:STANDARD
BEGIN:DAYLIGHT
TZNAME:EDT
DTSTART:20190310T020000
TZOFFSETFROM:-0500
TZOFFSETTO:-0400
RDATE:20200308T020000
RDATE:20210314T020000
END:DAYLIGHT
END:VTIMEZONE
BEGIN:VEVENT
UID:458c962b-122b-48dd-8915-f5236f546f98
DTSTAMP:20260421T041123Z
DESCRIPTION:
DTSTART;TZID=America/New_York:20200213T183000
DTEND;TZID=America/New_York:20200213T200000
LOCATION:Wellness Center
SUMMARY:Self-Defense Class
END:VEVENT
END:VCALENDAR
