BEGIN:VCALENDAR
VERSION:2.0
PRODID:-//www.alderhealth.org//NONSGML kigkonsult.se iCalcreator 2.30.10//
CALSCALE:GREGORIAN
METHOD:PUBLISH
UID:c8dfa33d-e656-42bb-ad3b-0f6fcca66b2c
X-WR-CALDESC:
X-WR-RELCALID:33bbdb2f12a8c78f8829ca5f95b96993
X-WR-TIMEZONE:America/New_York
BEGIN:VTIMEZONE
TZID:America/New_York
BEGIN:STANDARD
TZNAME:EST
DTSTART:20191103T020000
TZOFFSETFROM:-0400
TZOFFSETTO:-0500
RDATE:20201101T020000
END:STANDARD
BEGIN:DAYLIGHT
TZNAME:EDT
DTSTART:20190310T020000
TZOFFSETFROM:-0500
TZOFFSETTO:-0400
RDATE:20200308T020000
RDATE:20210314T020000
END:DAYLIGHT
END:VTIMEZONE
BEGIN:VEVENT
UID:c9906618-719f-43de-9edc-6a2c9de6bda7
DTSTAMP:20260421T041244Z
DESCRIPTION:
DTSTART;TZID=America/New_York:20200217T120000
DTEND;TZID=America/New_York:20200217T180000
LOCATION:
SUMMARY:Open Gym
END:VEVENT
END:VCALENDAR
