BEGIN:VCALENDAR
VERSION:2.0
PRODID:-//www.alderhealth.org//NONSGML kigkonsult.se iCalcreator 2.30.10//
CALSCALE:GREGORIAN
METHOD:PUBLISH
UID:f8e3a32c-ce7b-4dbe-8894-2d7b85a1a1c9
X-WR-CALDESC:Easy Hatha Yoga- This class explores a Hatha practice at a slo
 w to steady pace with a balance of easy and moderate postures. Experience 
 warm-ups and/or Sun Salutations\, a flow of standing and seated poses\, so
 me basic to moderate back-bends\, as well as some simple inversions\, and 
 close with a soothing relaxation\, all with emphasis on the breath as an a
 nchoring and energizing tool
X-WR-RELCALID:587645d80c5766f6a17b2223d69b9517
X-WR-TIMEZONE:America/New_York
BEGIN:VTIMEZONE
TZID:America/New_York
BEGIN:STANDARD
TZNAME:EST
DTSTART:20191103T020000
TZOFFSETFROM:-0400
TZOFFSETTO:-0500
RDATE:20201101T020000
END:STANDARD
BEGIN:DAYLIGHT
TZNAME:EDT
DTSTART:20190310T020000
TZOFFSETFROM:-0500
TZOFFSETTO:-0400
RDATE:20200308T020000
RDATE:20210314T020000
END:DAYLIGHT
END:VTIMEZONE
BEGIN:VEVENT
UID:650e9f5c-2fb4-4e6c-993c-9cc33a6ccaa0
DTSTAMP:20260421T042355Z
DESCRIPTION:Easy Hatha Yoga- This class explores a Hatha practice at a slow
  to steady pace with a balance of easy and moderate postures. Experience w
 arm-ups and/or Sun Salutations\, a flow of standing and seated poses\, som
 e basic to moderate back-bends\, as well as some simple inversions\, and c
 lose with a soothing relaxation\, all with emphasis on the breath as an an
 choring and energizing tool
DTSTART;TZID=America/New_York:20200217T180000
DTEND;TZID=America/New_York:20200217T190000
LOCATION:Wellness Center
SUMMARY:Hatha Yoga
END:VEVENT
END:VCALENDAR
