BEGIN:VCALENDAR
VERSION:2.0
PRODID:-//www.alderhealth.org//NONSGML kigkonsult.se iCalcreator 2.30.10//
CALSCALE:GREGORIAN
METHOD:PUBLISH
UID:711b2b47-48ab-4bef-99f7-d5194cbdc917
X-WR-CALDESC:
X-WR-RELCALID:b0b6b0b47453f71c69eaab5faa54c099
X-WR-TIMEZONE:America/New_York
BEGIN:VTIMEZONE
TZID:America/New_York
BEGIN:STANDARD
TZNAME:EST
DTSTART:20191103T020000
TZOFFSETFROM:-0400
TZOFFSETTO:-0500
RDATE:20201101T020000
END:STANDARD
BEGIN:DAYLIGHT
TZNAME:EDT
DTSTART:20190310T020000
TZOFFSETFROM:-0500
TZOFFSETTO:-0400
RDATE:20200308T020000
RDATE:20210314T020000
END:DAYLIGHT
END:VTIMEZONE
BEGIN:VEVENT
UID:da29d0fa-404b-4243-9754-3d1685e7c38f
DTSTAMP:20260421T041123Z
DESCRIPTION:
DTSTART;TZID=America/New_York:20200224T120000
DTEND;TZID=America/New_York:20200224T180000
LOCATION:
SUMMARY:Open Gym
END:VEVENT
END:VCALENDAR
