BEGIN:VCALENDAR
VERSION:2.0
PRODID:-//www.alderhealth.org//NONSGML kigkonsult.se iCalcreator 2.30.10//
CALSCALE:GREGORIAN
METHOD:PUBLISH
UID:673cab7c-0625-4867-9e95-8a9af76dd3e5
X-WR-CALDESC:
X-WR-RELCALID:912bcd947b195d53f8ef8d5844c68003
X-WR-TIMEZONE:America/New_York
BEGIN:VTIMEZONE
TZID:America/New_York
BEGIN:STANDARD
TZNAME:EST
DTSTART:20191103T020000
TZOFFSETFROM:-0400
TZOFFSETTO:-0500
RDATE:20201101T020000
END:STANDARD
BEGIN:DAYLIGHT
TZNAME:EDT
DTSTART:20190310T020000
TZOFFSETFROM:-0500
TZOFFSETTO:-0400
RDATE:20200308T020000
RDATE:20210314T020000
END:DAYLIGHT
END:VTIMEZONE
BEGIN:VEVENT
UID:6b9e0172-4ddc-4a4d-95fe-c95af478bdc5
DTSTAMP:20260421T023232Z
DESCRIPTION:
DTSTART;TZID=America/New_York:20200302T120000
DTEND;TZID=America/New_York:20200302T180000
LOCATION:
SUMMARY:Open Gym
END:VEVENT
END:VCALENDAR
