BEGIN:VCALENDAR
VERSION:2.0
PRODID:-//www.alderhealth.org//NONSGML kigkonsult.se iCalcreator 2.30.10//
CALSCALE:GREGORIAN
METHOD:PUBLISH
UID:4352110e-3eff-47f4-9303-96533b4905fd
X-WR-CALDESC:
X-WR-RELCALID:fed1d3d2c394c0f6c896891f6306a847
X-WR-TIMEZONE:America/New_York
BEGIN:VTIMEZONE
TZID:America/New_York
BEGIN:STANDARD
TZNAME:EST
DTSTART:20191103T020000
TZOFFSETFROM:-0400
TZOFFSETTO:-0500
RDATE:20201101T020000
END:STANDARD
BEGIN:DAYLIGHT
TZNAME:EDT
DTSTART:20190310T020000
TZOFFSETFROM:-0500
TZOFFSETTO:-0400
RDATE:20200308T020000
RDATE:20210314T020000
END:DAYLIGHT
END:VTIMEZONE
BEGIN:VEVENT
UID:367d1f29-5bc0-4ff6-b747-98877580fc48
DTSTAMP:20260421T023020Z
DESCRIPTION:
DTSTART;TZID=America/New_York:20200302T180000
DTEND;TZID=America/New_York:20200302T190000
LOCATION:100 N. Cameron St\, Ste.201\, Harrisburg\, PA 17101
SUMMARY:Yoga with Janus
END:VEVENT
END:VCALENDAR
