BEGIN:VCALENDAR
VERSION:2.0
PRODID:-//www.alderhealth.org//NONSGML kigkonsult.se iCalcreator 2.30.10//
CALSCALE:GREGORIAN
METHOD:PUBLISH
UID:b0078328-1065-4656-96ef-2a950e708634
X-WR-CALDESC:
X-WR-RELCALID:928fb429f97afc45cc673249b204867e
X-WR-TIMEZONE:America/New_York
BEGIN:VTIMEZONE
TZID:America/New_York
BEGIN:STANDARD
TZNAME:EST
DTSTART:20191103T020000
TZOFFSETFROM:-0400
TZOFFSETTO:-0500
RDATE:20201101T020000
END:STANDARD
BEGIN:DAYLIGHT
TZNAME:EDT
DTSTART:20190310T020000
TZOFFSETFROM:-0500
TZOFFSETTO:-0400
RDATE:20200308T020000
RDATE:20210314T020000
END:DAYLIGHT
END:VTIMEZONE
BEGIN:VEVENT
UID:f509f031-365d-479c-9208-bd3b03f84cc3
DTSTAMP:20260421T023927Z
DESCRIPTION:
DTSTART;TZID=America/New_York:20200309T180000
DTEND;TZID=America/New_York:20200309T190000
LOCATION:100 N. Cameron St\, Ste.201\, Harrisburg\, PA 17101
SUMMARY:Yoga with Janus
END:VEVENT
END:VCALENDAR
