BEGIN:VCALENDAR
VERSION:2.0
PRODID:-//www.alderhealth.org//NONSGML kigkonsult.se iCalcreator 2.30.10//
CALSCALE:GREGORIAN
METHOD:PUBLISH
UID:3d6183b5-c75c-492d-8532-5f526237c245
X-WR-CALDESC:
X-WR-RELCALID:33a55cf49678a4d7abd52a528c26427c
X-WR-TIMEZONE:America/New_York
BEGIN:VTIMEZONE
TZID:America/New_York
BEGIN:STANDARD
TZNAME:EST
DTSTART:20191103T020000
TZOFFSETFROM:-0400
TZOFFSETTO:-0500
RDATE:20201101T020000
RDATE:20211107T020000
END:STANDARD
BEGIN:DAYLIGHT
TZNAME:EDT
DTSTART:20200308T020000
TZOFFSETFROM:-0500
TZOFFSETTO:-0400
RDATE:20210314T020000
END:DAYLIGHT
END:VTIMEZONE
BEGIN:VEVENT
UID:57e0eb28-b630-4a73-bdee-cdd0a8cb9d73
DTSTAMP:20260421T010838Z
DESCRIPTION:
DTSTART;TZID=America/New_York:20200522T000000
DTEND;TZID=America/New_York:20200525T235900
LOCATION:
SUMMARY:Closed- Memorial Day
END:VEVENT
END:VCALENDAR
